10.5833333333333
0.000000000000
0.000000000000
-10.5833333333333
704261.050972329
6087328.66016213
