31.75
0.000000000000
0.000000000000
-31.7499999999999
704261.050972329
6087328.66016213
