9.31333333333353
0.000000000000
0.000000000000
-9.31333333333352
285478.433622159
6252869.18487926
