5.0800000000001
0.000000000000
0.000000000000
-5.0800000000001
283485.374109397
6320022.17539972
