7.61999999999996
0.000000000000
0.000000000000
-7.6199999999999
667235.178409895
5785403.14563588
