5.07999999999997
0.000000000000
0.000000000000
-5.07999999999993
667235.178409895
5785403.14563588
