50.7839782014364
0.000000000000
0.000000000000
-50.7839782014364
665285.566285294
5985081.30238579
