10.5833333333333
0.000000000000
0.000000000000
-10.5833333333333
707979.560671784
6041931.56223723
