10.5833333333333
0.000000000000
0.000000000000
-10.5833333333333
668089.907201067
5971696.40551271
