21.1666666666667
0.000000000000
0.000000000000
-21.1666666666666
668089.907201067
5971696.40551271
