4.65666666666666
0.000000000000
0.000000000000
-4.65666666666665
761076.187273328
13792410.7374986
