13.97
0.000000000000
0.000000000000
-13.9699999999999
761076.187273328
13792410.7374986
