2.11666666666668
0.000000000000
0.000000000000
-2.11666666666668
206061.143556578
3766492.71565028
