6.35000000000001
0.000000000000
0.000000000000
-6.35000000000004
217915.032943982
3789300.99945578
