22.86
0.000000000000
0.000000000000
-22.8600000000003
588279.207586453
4423267.05485005
