6.77333333333333
0.000000000000
0.000000000000
-6.77333333333337
591021.654389732
4422822.44976808
