7.62
0.000000000000
0.000000000000
-7.62000000000011
588279.207586453
4423267.05485005
