0.677333333333337
0.000000000000
0.000000000000
-0.677333333333279
234860.815461615
5277194.73708703
