2.53999999999999
0.000000000000
0.000000000000
-2.54000000000002
581380.701034866
7776754.90021266
