1.26999999999999
0.000000000000
0.000000000000
-1.27000000000001
581380.701034866
7776754.90021266
