2.20133333333336
0.000000000000
0.000000000000
-2.2013333333333
690981.414053611
7810917.20692517
