1.69333333333335
0.000000000000
0.000000000000
-1.69333333333334
637748.058819834
5909933.82445736
