3.17499999999998
0.000000000000
0.000000000000
-3.17499999999985
638070.277153462
5907853.54642664
