15.2400000000001
0.000000000000
0.000000000000
-15.2400000000001
605160.334305135
5929335.68617891
