0.507999999999998
0.000000000000
0.000000000000
-0.508000000000003
640464.189254616
5905638.25923997
