1.016
0.000000000000
0.000000000000
-1.01600000000001
640464.189254616
5905638.25923997
