0.507999999999998
0.000000000000
0.000000000000
-0.508000000000003
640458.734105115
5905730.9967815
